BEGIN:VCALENDAR
VERSION:2.0
PRODID:-//Emotions By Corsica - ECPv6.15.18//NONSGML v1.0//EN
CALSCALE:GREGORIAN
METHOD:PUBLISH
X-WR-CALNAME:Emotions By Corsica
X-ORIGINAL-URL:https://emotionsbycorsica.mx
X-WR-CALDESC:Events for Emotions By Corsica
REFRESH-INTERVAL;VALUE=DURATION:PT1H
X-Robots-Tag:noindex
X-PUBLISHED-TTL:PT1H
BEGIN:VTIMEZONE
TZID:UTC
BEGIN:STANDARD
TZOFFSETFROM:+0000
TZOFFSETTO:+0000
TZNAME:UTC
DTSTART:20250101T000000
END:STANDARD
END:VTIMEZONE
BEGIN:VEVENT
DTSTART;VALUE=DATE:20260101
DTEND;VALUE=DATE:20270101
DTSTAMP:20260423T064030
CREATED:20250225T040008Z
LAST-MODIFIED:20260403T042000Z
UID:6639-1767225600-1798761599@emotionsbycorsica.mx
SUMMARY:Distance creates beauty
DESCRIPTION:In Depths of Desire\, SONI presents a new series of figurative works rooted in his characteristic Impressionist approach. Through expressive brushwork\, luminous color\, and a focus on atmosphere\, he captures intimate everyday moments where emotion is suggested through light rather than narrative. The figures emerge softly from their surroundings\, creating scenes that feel immediate\, warm\, and alive. This collection highlights SONI’s ability to transform simple gestures and quiet interactions into visually compelling compositions. Rather than depicting desire as a dramatic theme\, he approaches it with subtlety—revealing beauty in the ordinary and inviting viewers to connect with the mood and presence of each figure through color\, movement\, and light. 								\n				\n				\n				\n							\n			\n		\n						\n				\n				\n				\n					Catalogue
URL:https://emotionsbycorsica.mx/event/distance-creates-beauty/
CATEGORIES:Exhibitions
ATTACH;FMTTYPE=image/jpeg:https://emotionsbycorsica.mx/wp-content/uploads/2025/12/JACKIE-JONES-1920x1280-1.jpg
ORGANIZER;CN="Emotions By Corsica":MAILTO:yoursite@example.com
END:VEVENT
BEGIN:VEVENT
DTSTART;VALUE=DATE:20260101
DTEND;VALUE=DATE:20270101
DTSTAMP:20260423T064030
CREATED:20250403T002913Z
LAST-MODIFIED:20260403T041905Z
UID:6764-1767225600-1798761599@emotionsbycorsica.mx
SUMMARY:Porthole to Infinity
DESCRIPTION:In Depths of Desire\, SONI presents a new series of figurative works rooted in his characteristic Impressionist approach. Through expressive brushwork\, luminous color\, and a focus on atmosphere\, he captures intimate everyday moments where emotion is suggested through light rather than narrative. The figures emerge softly from their surroundings\, creating scenes that feel immediate\, warm\, and alive. This collection highlights SONI’s ability to transform simple gestures and quiet interactions into visually compelling compositions. Rather than depicting desire as a dramatic theme\, he approaches it with subtlety—revealing beauty in the ordinary and inviting viewers to connect with the mood and presence of each figure through color\, movement\, and light. 								\n				\n				\n				\n							\n			\n		\n						\n				\n				\n				\n					Catalogue
URL:https://emotionsbycorsica.mx/event/porthole-to-infinity/
CATEGORIES:Exhibitions
ATTACH;FMTTYPE=image/jpeg:https://emotionsbycorsica.mx/wp-content/uploads/2025/12/AMELIE-DESJARDINS-1920x1280-1.jpg
ORGANIZER;CN="Emotions By Corsica":MAILTO:yoursite@example.com
END:VEVENT
BEGIN:VEVENT
DTSTART;VALUE=DATE:20260101
DTEND;VALUE=DATE:20270101
DTSTAMP:20260423T064030
CREATED:20251215T232353Z
LAST-MODIFIED:20260403T042049Z
UID:6969-1767225600-1798761599@emotionsbycorsica.mx
SUMMARY:“Silent landscapes” de Mau Luna
DESCRIPTION:In Depths of Desire\, SONI presents a new series of figurative works rooted in his characteristic Impressionist approach. Through expressive brushwork\, luminous color\, and a focus on atmosphere\, he captures intimate everyday moments where emotion is suggested through light rather than narrative. The figures emerge softly from their surroundings\, creating scenes that feel immediate\, warm\, and alive. This collection highlights SONI’s ability to transform simple gestures and quiet interactions into visually compelling compositions. Rather than depicting desire as a dramatic theme\, he approaches it with subtlety—revealing beauty in the ordinary and inviting viewers to connect with the mood and presence of each figure through color\, movement\, and light. 								\n				\n				\n				\n							\n			\n		\n						\n				\n				\n				\n					Catalogue
URL:https://emotionsbycorsica.mx/event/silent-landscapes-de-mau-luna/
CATEGORIES:Exhibitions
ATTACH;FMTTYPE=image/jpeg:https://emotionsbycorsica.mx/wp-content/uploads/2025/12/Mau-Luna-1920x1280-1.jpg
ORGANIZER;CN="Emotions By Corsica":MAILTO:yoursite@example.com
END:VEVENT
BEGIN:VEVENT
DTSTART;VALUE=DATE:20260101
DTEND;VALUE=DATE:20270101
DTSTAMP:20260423T064030
CREATED:20251215T232545Z
LAST-MODIFIED:20260403T042340Z
UID:6967-1767225600-1798761599@emotionsbycorsica.mx
SUMMARY:“Depths of desire” de SONI
DESCRIPTION:In Depths of Desire\, SONI presents a new series of figurative works rooted in his characteristic Impressionist approach. Through expressive brushwork\, luminous color\, and a focus on atmosphere\, he captures intimate everyday moments where emotion is suggested through light rather than narrative. The figures emerge softly from their surroundings\, creating scenes that feel immediate\, warm\, and alive. This collection highlights SONI’s ability to transform simple gestures and quiet interactions into visually compelling compositions. Rather than depicting desire as a dramatic theme\, he approaches it with subtlety—revealing beauty in the ordinary and inviting viewers to connect with the mood and presence of each figure through color\, movement\, and light. 								\n				\n				\n				\n							\n			\n		\n						\n				\n				\n				\n					Catalogue
URL:https://emotionsbycorsica.mx/event/depths-of-desire-de-soni/
CATEGORIES:Exhibitions
ATTACH;FMTTYPE=image/jpeg:https://emotionsbycorsica.mx/wp-content/uploads/2025/12/SONI-1920x1280-1.jpg
ORGANIZER;CN="Emotions By Corsica":MAILTO:yoursite@example.com
END:VEVENT
END:VCALENDAR